BEGIN:VCALENDAR
PRODID:inform
VERSION:2.0
CALSCALE:GREGORIAN
BEGIN:VEVENT
UID:be48ad9b3bd39e8a699d656d2a64b4ea
DTSTAMP:20260421T154458Z
SUMMARY:NextGen Payments &amp\; RegTech Forum
DESCRIPTION:Vernetzen Sie sich mit RiskShield auf dem NextGen Payments & Re
 gTech Forum 2026 in Barcelona und erleben Sie Innovationen in Payments und
  RegTech.
DTSTART;VALUE=DATE:20260507
LOCATION:Barcelona\, Spanien
END:VEVENT
END:VCALENDAR
