BEGIN:VCALENDAR
PRODID:inform
VERSION:2.0
CALSCALE:GREGORIAN
BEGIN:VEVENT
UID:c6f60edab36f03aee296ecb41e762516
DTSTAMP:20260423T052639Z
SUMMARY:Seminar Sales &amp\; Operations Planning (S&amp\;OP)
DESCRIPTION:Optimieren Sie Ihre Supply Chain: Im zweitägigen Seminar "Sale
 s & Operations Planning" erfahren Sie\, wie S&OP Prozesse verbessert\, Abt
 eilungen synchronisiert und strategischen Mehrwert schafft – mit praxisn
 ahen Übungen und Best Practices.
DTSTART;VALUE=DATE:20260915
DTEND;VALUE=DATE:20260917
LOCATION:Köln 
END:VEVENT
END:VCALENDAR
