BEGIN:VCALENDAR
PRODID:inform
VERSION:2.0
CALSCALE:GREGORIAN
BEGIN:VEVENT
UID:137fea2b3407eac8293e8beb0d413e16
DTSTAMP:20260423T122701Z
SUMMARY:ADD*ONE Experts: Operative Planung
DESCRIPTION:Im Workshop vertiefen Sie Ihr Wissen zu Bevorratungsstrategien 
 und entwickeln es gezielt weiter. So haben Sie Verfügbarkeit\, Bestände 
 und Bewirtschaftungskosten mithilfe von ADD*ONE künftig noch besser im Gr
 iff.
DTSTART:20260616T090000
DTEND:20260616T163000
LOCATION:Präsenz-Workshop in Aachen
END:VEVENT
END:VCALENDAR
