BEGIN:VCALENDAR
PRODID:inform
VERSION:2.0
CALSCALE:GREGORIAN
BEGIN:VEVENT
UID:0ad9b59c59debda45e5e2947aafa1060
DTSTAMP:20260419T184521Z
SUMMARY:Money20/20 Europe
DESCRIPTION:#1 fintech event where the future of money is shaped by leaders
 \, innovators and decision‑makers. Join industry pioneers in Amsterdam f
 or three days of game‑changing insights and business opportunities.
DTSTART;VALUE=DATE:20260602
DTEND;VALUE=DATE:20260605
LOCATION:Amsterdam\, Netherlands
END:VEVENT
END:VCALENDAR
