BEGIN:VCALENDAR
PRODID:inform
VERSION:2.0
CALSCALE:GREGORIAN
BEGIN:VEVENT
UID:821cb58712111d0b85a077f7509fb085
DTSTAMP:20260423T210322Z
SUMMARY:Fraud\, AML and Financial Crime Conference
DESCRIPTION:La conferencia reúne a expertos en prevención de blanqueo de 
 capitales\, cumplimiento de sanciones y lucha contra el fraude. Se centra 
 en los desarrollos regulatorios actuales y en enfoques tecnológicos para 
 combatir los delitos financieros.
DTSTART;VALUE=DATE:20251125
DTEND;VALUE=DATE:20251127
LOCATION:Fráncfort\, Alemania
END:VEVENT
END:VCALENDAR
