BEGIN:VCALENDAR
PRODID:inform
VERSION:2.0
CALSCALE:GREGORIAN
BEGIN:VEVENT
UID:00cb51ea5533751b93f6701310d94b1a
DTSTAMP:20260423T103913Z
SUMMARY:Money 20/20 Middle East
DESCRIPTION:Money 20/20 Middle East 2025 debuts in Riyadh\, bringing to
 gether leaders from fintech\, banking\, and digital payments.
DTSTART;VALUE=DATE:20250915
DTEND;VALUE=DATE:20250918
LOCATION:Riad\, Arabia Saudita
END:VEVENT
END:VCALENDAR
